BEGIN:VCALENDAR
VERSION:2.0
PRODID:-//wp-events-plugin.com//7.2.3.1//EN
TZID:Europe/Berlin
X-WR-TIMEZONE:Europe/Berlin
BEGIN:VEVENT
UID:322@cross-kultur.de
DTSTART;TZID=Europe/Berlin;VALUE=DATE:20251121
DTEND;TZID=Europe/Berlin;VALUE=DATE:20251124
DTSTAMP:20251103T130915Z
URL:https://www.cross-kultur.de/veranstaltungen/40-black-international-cin
 ema-berlin/
SUMMARY:40. Black International Cinema Berlin
DESCRIPTION:
CATEGORIES:2025_Black Cinema
LOCATION:Rathaus Schöneberg\, Marlene-Dietrich-Kinosaal\, John-F.-Kennedy-
 Platz\, Berlin\, Berlin\, 10825\, Deutschland
GEO:52.484902;13.344638
X-APPLE-STRUCTURED-LOCATION;VALUE=URI;X-ADDRESS=John-F.-Kennedy-Platz\, Ber
 lin\, Berlin\, 10825\, Deutschland\, Deutschland;X-APPLE-RADIUS=100;X-TITL
 E=Rathaus Schöneberg\, Marlene-Dietrich-Kinosaal:geo:52.484902,13.344638
END:VEVENT
BEGIN:VTIMEZONE
TZID:Europe/Berlin
X-LIC-LOCATION:Europe/Berlin
BEGIN:STANDARD
DTSTART:20251026T020000
TZOFFSETFROM:+0200
TZOFFSETTO:+0100
TZNAME:CET
END:STANDARD
END:VTIMEZONE
END:VCALENDAR