BEGIN:VCALENDAR
VERSION:2.0
PRODID:-//wp-events-plugin.com//7.2.3.1//EN
TZID:Europe/Berlin
X-WR-TIMEZONE:Europe/Berlin
BEGIN:VEVENT
UID:325@cross-kultur.de
DTSTART;TZID=Europe/Berlin:20251122T160000
DTEND;TZID=Europe/Berlin:20251122T160000
DTSTAMP:20251022T091729Z
URL:https://www.cross-kultur.de/veranstaltungen/artist-talk-mit-wataru-mur
 akami-und-rossella-scrascia/
SUMMARY:Artist Talk mit Wataru Murakami und Rossella Scrascia
DESCRIPTION:
CATEGORIES:2025_Wataru Murakami
LOCATION:Galerie im Tempelhof Museum\, Alt-Mariendorf 43\, Berlin\, Berlin\
 , 12107
GEO:52.439572;13.385476
X-APPLE-STRUCTURED-LOCATION;VALUE=URI;X-ADDRESS=Alt-Mariendorf 43\, Berlin\
 , Berlin\, 12107\, Deutschland;X-APPLE-RADIUS=100;X-TITLE=Galerie im Tempe
 lhof Museum:geo:52.439572,13.385476
END:VEVENT
BEGIN:VTIMEZONE
TZID:Europe/Berlin
X-LIC-LOCATION:Europe/Berlin
BEGIN:STANDARD
DTSTART:20251026T020000
TZOFFSETFROM:+0200
TZOFFSETTO:+0100
TZNAME:CET
END:STANDARD
END:VTIMEZONE
END:VCALENDAR