BEGIN:VCALENDAR
VERSION:2.0
PRODID:-//wp-events-plugin.com//7.2.3.1//EN
TZID:Europe/Berlin
X-WR-TIMEZONE:Europe/Berlin
BEGIN:VEVENT
UID:321@cross-kultur.de
DTSTART;TZID=Europe/Berlin:20251120T183000
DTEND;TZID=Europe/Berlin:20251120T183000
DTSTAMP:20251022T090829Z
URL:https://www.cross-kultur.de/veranstaltungen/ausstellungseroeffnung-fou
 nd-in-translation/
SUMMARY:Ausstellungseröffnung »Found In Translation«
DESCRIPTION:
CATEGORIES:2025_found in translation
LOCATION:Galerie »Under The Mango Tree«\, Merseburger Straße 14\, Berlin
 \, 10823
GEO:52.529059;13.399375
X-APPLE-STRUCTURED-LOCATION;VALUE=URI;X-ADDRESS=Merseburger Straße 14\, Be
 rlin\, 10823\, Deutschland;X-APPLE-RADIUS=100;X-TITLE=Galerie »Under The 
 Mango Tree«:geo:52.529059,13.399375
END:VEVENT
BEGIN:VTIMEZONE
TZID:Europe/Berlin
X-LIC-LOCATION:Europe/Berlin
BEGIN:STANDARD
DTSTART:20251026T020000
TZOFFSETFROM:+0200
TZOFFSETTO:+0100
TZNAME:CET
END:STANDARD
END:VTIMEZONE
END:VCALENDAR