BEGIN:VCALENDAR
VERSION:2.0
PRODID:-//wp-events-plugin.com//7.2.3.1//EN
TZID:Europe/Berlin
X-WR-TIMEZONE:Europe/Berlin
BEGIN:VEVENT
UID:324@cross-kultur.de
DTSTART;TZID=Europe/Berlin:20251122T120000
DTEND;TZID=Europe/Berlin:20251122T120000
DTSTAMP:20251022T091628Z
URL:https://www.cross-kultur.de/veranstaltungen/demokratielunch-ueber-kuen
 ftiges-engagement-vielfalt-und-demokratiefoerderung-2/
SUMMARY:Demokratielunch »Über künftiges Engagement\, Vielfalt und Demokr
 atieförderung«
DESCRIPTION:
CATEGORIES:2025_Demokratie
LOCATION:Rathaus Schöneberg\, John-F.-Kennedy-Saal\, John-F.-Kennedy-Platz
 \, Berlin\, Berlin\, 10825\, Deutschland
GEO:52.484902;13.344638
X-APPLE-STRUCTURED-LOCATION;VALUE=URI;X-ADDRESS=John-F.-Kennedy-Platz\, Ber
 lin\, Berlin\, 10825\, Deutschland\, Deutschland;X-APPLE-RADIUS=100;X-TITL
 E=Rathaus Schöneberg\, John-F.-Kennedy-Saal:geo:52.484902,13.344638
END:VEVENT
BEGIN:VTIMEZONE
TZID:Europe/Berlin
X-LIC-LOCATION:Europe/Berlin
BEGIN:STANDARD
DTSTART:20251026T020000
TZOFFSETFROM:+0200
TZOFFSETTO:+0100
TZNAME:CET
END:STANDARD
END:VTIMEZONE
END:VCALENDAR