BEGIN:VCALENDAR
VERSION:2.0
PRODID:-//wp-events-plugin.com//7.2.3.1//EN
TZID:Europe/Berlin
X-WR-TIMEZONE:Europe/Berlin
BEGIN:VEVENT
UID:340@cross-kultur.de
DTSTART;TZID=Europe/Berlin:20251129T120000
DTEND;TZID=Europe/Berlin:20251129T130000
DTSTAMP:20251022T124055Z
URL:https://www.cross-kultur.de/veranstaltungen/interaktiver-kinder-worksh
 op-zu-lateinamerikanischer-musik/
SUMMARY:Interaktiver Kinder-Workshop zu lateinamerikanischer Musik
DESCRIPTION:
CATEGORIES:2025_Kinder_WS
LOCATION:Interkulturelles Haus Tempelhof-Schöneberg\, Geßlerstraße 11\, 
 Berlin\, Berlin\, 10829
GEO:52.486229;13.36771
X-APPLE-STRUCTURED-LOCATION;VALUE=URI;X-ADDRESS=Geßlerstraße 11\, Berlin\
 , Berlin\, 10829\, Deutschland;X-APPLE-RADIUS=100;X-TITLE=Interkulturelles
  Haus Tempelhof-Schöneberg:geo:52.486229,13.36771
END:VEVENT
BEGIN:VTIMEZONE
TZID:Europe/Berlin
X-LIC-LOCATION:Europe/Berlin
BEGIN:STANDARD
DTSTART:20251026T020000
TZOFFSETFROM:+0200
TZOFFSETTO:+0100
TZNAME:CET
END:STANDARD
END:VTIMEZONE
END:VCALENDAR