BEGIN:VCALENDAR
VERSION:2.0
PRODID:-//wp-events-plugin.com//7.2.3.1//EN
TZID:Europe/Berlin
X-WR-TIMEZONE:Europe/Berlin
BEGIN:VEVENT
UID:351@cross-kultur.de
DTSTART;TZID=Europe/Berlin:20251207T180000
DTEND;TZID=Europe/Berlin:20251207T180000
DTSTAMP:20251023T145649Z
URL:https://www.cross-kultur.de/veranstaltungen/leidenschaft-ist-anstecken
 d/
SUMMARY:»Leidenschaft ist ansteckend«
DESCRIPTION:
CATEGORIES:2025_Folcloricos
LOCATION:Rathaus Schöneberg\, Willy-Brandt-Saal\, John-F.-Kennedy-Platz\, 
 Berlin\, Berlin\, 10825
GEO:52.484927;13.344638
X-APPLE-STRUCTURED-LOCATION;VALUE=URI;X-ADDRESS=John-F.-Kennedy-Platz\, Ber
 lin\, Berlin\, 10825\, Deutschland;X-APPLE-RADIUS=100;X-TITLE=Rathaus Sch
 öneberg\, Willy-Brandt-Saal:geo:52.484927,13.344638
END:VEVENT
BEGIN:VTIMEZONE
TZID:Europe/Berlin
X-LIC-LOCATION:Europe/Berlin
BEGIN:STANDARD
DTSTART:20251026T020000
TZOFFSETFROM:+0200
TZOFFSETTO:+0100
TZNAME:CET
END:STANDARD
END:VTIMEZONE
END:VCALENDAR