BEGIN:VCALENDAR
VERSION:2.0
PRODID:-//wp-events-plugin.com//7.2.3.1//EN
TZID:Europe/Berlin
X-WR-TIMEZONE:Europe/Berlin
BEGIN:VEVENT
UID:329@cross-kultur.de
DTSTART;TZID=Europe/Berlin:20251122T180000
DTEND;TZID=Europe/Berlin:20251122T220000
DTSTAMP:20251022T115603Z
URL:https://www.cross-kultur.de/veranstaltungen/local-shorts-nachbarschaft
 liches-kurzfilmfestival/
SUMMARY:Local Shorts – Nachbarschaftliches Kurzfilmfestival
DESCRIPTION:
CATEGORIES:2025_LOcal Shorts
END:VEVENT
BEGIN:VTIMEZONE
TZID:Europe/Berlin
X-LIC-LOCATION:Europe/Berlin
BEGIN:STANDARD
DTSTART:20251026T020000
TZOFFSETFROM:+0200
TZOFFSETTO:+0100
TZNAME:CET
END:STANDARD
END:VTIMEZONE
END:VCALENDAR