BEGIN:VCALENDAR
VERSION:2.0
PRODID:-//wp-events-plugin.com//7.2.3.1//EN
TZID:Europe/Berlin
X-WR-TIMEZONE:Europe/Berlin
BEGIN:VEVENT
UID:331@cross-kultur.de
DTSTART;TZID=Europe/Berlin:20251121T190000
DTEND;TZID=Europe/Berlin:20251121T190000
DTSTAMP:20251119T094439Z
URL:https://www.cross-kultur.de/veranstaltungen/musik-unterwegs-zwischen-e
 uropa-und-dem-orient/
SUMMARY:Musik unterwegs zwischen Europa und dem Orient
DESCRIPTION:
CATEGORIES:2025_Europa u Orient
LOCATION:Königin-Luise-Gedächtnis-Kirche\, Gustav-Müller-Platz\, Berlin\
 , 10829
GEO:52.489119;13.363208
X-APPLE-STRUCTURED-LOCATION;VALUE=URI;X-ADDRESS=Gustav-Müller-Platz\, Berl
 in\, 10829\, Deutschland;X-APPLE-RADIUS=100;X-TITLE=Königin-Luise-Gedäch
 tnis-Kirche:geo:52.489119,13.363208
END:VEVENT
BEGIN:VTIMEZONE
TZID:Europe/Berlin
X-LIC-LOCATION:Europe/Berlin
BEGIN:STANDARD
DTSTART:20251026T020000
TZOFFSETFROM:+0200
TZOFFSETTO:+0100
TZNAME:CET
END:STANDARD
END:VTIMEZONE
END:VCALENDAR