BEGIN:VCALENDAR
VERSION:2.0
PRODID:-//wp-events-plugin.com//7.2.3.1//EN
TZID:Europe/Berlin
X-WR-TIMEZONE:Europe/Berlin
BEGIN:VEVENT
UID:349@cross-kultur.de
DTSTART;TZID=Europe/Berlin:20251206T110000
DTEND;TZID=Europe/Berlin:20251206T160000
DTSTAMP:20251103T131403Z
URL:https://www.cross-kultur.de/veranstaltungen/pencak-silat-setia-hati-an
 oman-traditionelle-kampfkunst-aus-indonesien/
SUMMARY:Pencak Silat »Setia Hati Anoman« - Traditionelle Kampfkunst aus I
 ndonesien
DESCRIPTION:
CATEGORIES:2025_Pencak Silat
LOCATION:Haus der Indonesischen Kulturen\, Theodor-Francke-Str. 11\, Berlin
 \, Berlin\, 12099 \, Berlin
GEO:52.461624;13.385919
X-APPLE-STRUCTURED-LOCATION;VALUE=URI;X-ADDRESS=Theodor-Francke-Str. 11\, B
 erlin\, Berlin\, 12099 \, Berlin\, Deutschland;X-APPLE-RADIUS=100;X-TITLE=
 Haus der Indonesischen Kulturen:geo:52.461624,13.385919
END:VEVENT
BEGIN:VTIMEZONE
TZID:Europe/Berlin
X-LIC-LOCATION:Europe/Berlin
BEGIN:STANDARD
DTSTART:20251026T020000
TZOFFSETFROM:+0200
TZOFFSETTO:+0100
TZNAME:CET
END:STANDARD
END:VTIMEZONE
END:VCALENDAR