BEGIN:VCALENDAR
VERSION:2.0
PRODID:-//wp-events-plugin.com//7.2.3.1//EN
TZID:Europe/Berlin
X-WR-TIMEZONE:Europe/Berlin
BEGIN:VEVENT
UID:312@cross-kultur.de
DTSTART;TZID=Europe/Berlin:20251115T100000
DTEND;TZID=Europe/Berlin:20251116T100000
DTSTAMP:20251022T082810Z
URL:https://www.cross-kultur.de/veranstaltungen/radio-podcast-workshop/
SUMMARY:Radio & Podcast Workshop
DESCRIPTION:
CATEGORIES:2025_Podcast
LOCATION:VHS Tempelhof-Schöneberg\, Barbarossaplatz 5\, Berlin\, Berlin\, 
 10781\, Deutschland
GEO:52.492639;13.349673
X-APPLE-STRUCTURED-LOCATION;VALUE=URI;X-ADDRESS=Barbarossaplatz 5\, Berlin\
 , Berlin\, 10781\, Deutschland\, Deutschland;X-APPLE-RADIUS=100;X-TITLE=VH
 S Tempelhof-Schöneberg:geo:52.492639,13.349673
END:VEVENT
BEGIN:VTIMEZONE
TZID:Europe/Berlin
X-LIC-LOCATION:Europe/Berlin
BEGIN:STANDARD
DTSTART:20251026T020000
TZOFFSETFROM:+0200
TZOFFSETTO:+0100
TZNAME:CET
END:STANDARD
END:VTIMEZONE
END:VCALENDAR