BEGIN:VCALENDAR
VERSION:2.0
PRODID:-//wp-events-plugin.com//7.2.3.1//EN
TZID:Europe/Berlin
X-WR-TIMEZONE:Europe/Berlin
BEGIN:VEVENT
UID:314@cross-kultur.de
DTSTART;TZID=Europe/Berlin:20251116T160000
DTEND;TZID=Europe/Berlin:20251116T160000
DTSTAMP:20251104T080954Z
URL:https://www.cross-kultur.de/veranstaltungen/salon-tempelhof-schoeneber
 g/
SUMMARY:»Salon Schöneberg«
DESCRIPTION:
CATEGORIES:2025_Friseur
LOCATION:Anton Friseur\, Kolonnenstraße 53\, Berlin\, Berlin\, 10829 
GEO:52.48594;13.362137
X-APPLE-STRUCTURED-LOCATION;VALUE=URI;X-ADDRESS=Kolonnenstraße 53\, Berlin
 \, Berlin\, 10829 \, Deutschland;X-APPLE-RADIUS=100;X-TITLE=Anton Friseur:
 geo:52.48594,13.362137
END:VEVENT
BEGIN:VTIMEZONE
TZID:Europe/Berlin
X-LIC-LOCATION:Europe/Berlin
BEGIN:STANDARD
DTSTART:20251026T020000
TZOFFSETFROM:+0200
TZOFFSETTO:+0100
TZNAME:CET
END:STANDARD
END:VTIMEZONE
END:VCALENDAR