BEGIN:VCALENDAR
VERSION:2.0
PRODID:-//wp-events-plugin.com//7.2.3.1//EN
TZID:Europe/Berlin
X-WR-TIMEZONE:Europe/Berlin
BEGIN:VEVENT
UID:315@cross-kultur.de
DTSTART;TZID=Europe/Berlin:20251117T190000
DTEND;TZID=Europe/Berlin:20251117T190000
DTSTAMP:20251022T083017Z
URL:https://www.cross-kultur.de/veranstaltungen/sarah-levy-kein-anderes-la
 nd/
SUMMARY:Sarah Levy: Kein anderes Land
DESCRIPTION:
CATEGORIES:2025_sarah
LOCATION:Schöneberg Museum\, Hauptstraße 40/42\, Berlin\, Berlin\, 10827
GEO:52.483896;13.35101
X-APPLE-STRUCTURED-LOCATION;VALUE=URI;X-ADDRESS=Hauptstraße 40/42\, Berlin
 \, Berlin\, 10827\, Deutschland;X-APPLE-RADIUS=100;X-TITLE=Schöneberg Mus
 eum:geo:52.483896,13.35101
END:VEVENT
BEGIN:VTIMEZONE
TZID:Europe/Berlin
X-LIC-LOCATION:Europe/Berlin
BEGIN:STANDARD
DTSTART:20251026T020000
TZOFFSETFROM:+0200
TZOFFSETTO:+0100
TZNAME:CET
END:STANDARD
END:VTIMEZONE
END:VCALENDAR