BEGIN:VCALENDAR
VERSION:2.0
PRODID:-//wp-events-plugin.com//7.2.3.1//EN
TZID:Europe/Berlin
X-WR-TIMEZONE:Europe/Berlin
BEGIN:VEVENT
UID:343@cross-kultur.de
DTSTART;TZID=Europe/Berlin:20251129T183000
DTEND;TZID=Europe/Berlin:20251129T183000
DTSTAMP:20251117T105407Z
URL:https://www.cross-kultur.de/veranstaltungen/sayat-nova-in-berlin-die-w
 elt-von-morgen/
SUMMARY:Sayat Nova in Berlin – Die Welt von Morgen
DESCRIPTION:
CATEGORIES:2025_Sayat
LOCATION:Zig Zag Jazz Club\, Hauptstr. 89\, Berlin\, 12159
GEO:52.487014;13.360834
X-APPLE-STRUCTURED-LOCATION;VALUE=URI;X-ADDRESS=Hauptstr. 89\, Berlin\, 121
 59\, Deutschland;X-APPLE-RADIUS=100;X-TITLE=Zig Zag Jazz Club:geo:52.48701
 4,13.360834
END:VEVENT
BEGIN:VTIMEZONE
TZID:Europe/Berlin
X-LIC-LOCATION:Europe/Berlin
BEGIN:STANDARD
DTSTART:20251026T020000
TZOFFSETFROM:+0200
TZOFFSETTO:+0100
TZNAME:CET
END:STANDARD
END:VTIMEZONE
END:VCALENDAR