BEGIN:VCALENDAR
VERSION:2.0
PRODID:-//wp-events-plugin.com//7.2.3.1//EN
TZID:Europe/Berlin
X-WR-TIMEZONE:Europe/Berlin
BEGIN:VEVENT
UID:333@cross-kultur.de
DTSTART;TZID=Europe/Berlin:20251127T180000
DTEND;TZID=Europe/Berlin:20251127T200000
DTSTAMP:20251016T111730Z
URL:https://www.cross-kultur.de/veranstaltungen/selbstbehauptungskurs-fuer
 -frauen-2/
SUMMARY:Selbstbehauptungskurs für Frauen
DESCRIPTION:
CATEGORIES:2025_Selbstbehauptung2,2025_Selbstbehauptungskurs
LOCATION:Mittelpunktbibliothek „Theodor-Heuss-Bibliothek“ Schöneberg\,
  Hauptstraße 40\, Berlin\, Berlin\, 10827
GEO:52.483896;13.35101
X-APPLE-STRUCTURED-LOCATION;VALUE=URI;X-ADDRESS=Hauptstraße 40\, Berlin\, 
 Berlin\, 10827\, Deutschland;X-APPLE-RADIUS=100;X-TITLE=Mittelpunktbibliot
 hek „Theodor-Heuss-Bibliothek“ Schöneberg:geo:52.483896,13.35101
END:VEVENT
BEGIN:VTIMEZONE
TZID:Europe/Berlin
X-LIC-LOCATION:Europe/Berlin
BEGIN:STANDARD
DTSTART:20251026T020000
TZOFFSETFROM:+0200
TZOFFSETTO:+0100
TZNAME:CET
END:STANDARD
END:VTIMEZONE
END:VCALENDAR