BEGIN:VCALENDAR
VERSION:2.0
PRODID:-//wp-events-plugin.com//7.2.3.1//EN
TZID:Europe/Berlin
X-WR-TIMEZONE:Europe/Berlin
BEGIN:VEVENT
UID:334@cross-kultur.de
DTSTART;TZID=Europe/Berlin:20251202T190000
DTEND;TZID=Europe/Berlin:20251202T210000
DTSTAMP:20251022T124732Z
URL:https://www.cross-kultur.de/veranstaltungen/selbstbehauptungskurs-fuer
 -frauen-3/
SUMMARY:Selbstbehauptungskurs für Frauen
DESCRIPTION:
CATEGORIES:2025_Selbstbehauptung3
LOCATION:Bezirkszentralbibliothek »Eva-Maria-Buch-Haus«\, Götzstraße 8
 –12\, Berlin\, 12099
GEO:52.463779;13.387784
X-APPLE-STRUCTURED-LOCATION;VALUE=URI;X-ADDRESS=Götzstraße 8–12\, Berli
 n\, 12099\, Deutschland;X-APPLE-RADIUS=100;X-TITLE=Bezirkszentralbibliothe
 k »Eva-Maria-Buch-Haus«:geo:52.463779,13.387784
END:VEVENT
BEGIN:VTIMEZONE
TZID:Europe/Berlin
X-LIC-LOCATION:Europe/Berlin
BEGIN:STANDARD
DTSTART:20251026T020000
TZOFFSETFROM:+0200
TZOFFSETTO:+0100
TZNAME:CET
END:STANDARD
END:VTIMEZONE
END:VCALENDAR