BEGIN:VCALENDAR
VERSION:2.0
PRODID:-//wp-events-plugin.com//7.2.3.1//EN
TZID:Europe/Berlin
X-WR-TIMEZONE:Europe/Berlin
BEGIN:VEVENT
UID:266@cross-kultur.de
DTSTART;TZID=Europe/Berlin:20241119T180000
DTEND;TZID=Europe/Berlin:20241119T180000
DTSTAMP:20241021T180144Z
URL:https://www.cross-kultur.de/veranstaltungen/so-wollte-ich-mein-kind-ni
 cht-zur-welt-bringen/
SUMMARY:»So wollte ich mein Kind nicht zur Welt bringen!«
DESCRIPTION:
ATTACH;FMTTYPE=image/jpeg:https://www.cross-kultur.de/wp-content/uploads/2
 024/10/Lena_Hoegemann_STEFAN_WIELAND_klein.jpg
CATEGORIES:2024,2024_FrB
LOCATION:Rathaus Schöneberg\, John-F.-Kennedy-Saal\, John-F.-Kennedy-Platz
 \, Berlin\, Berlin\, 10825\, Deutschland
GEO:52.484902;13.344638
X-APPLE-STRUCTURED-LOCATION;VALUE=URI;X-ADDRESS=John-F.-Kennedy-Platz\, Ber
 lin\, Berlin\, 10825\, Deutschland\, Deutschland;X-APPLE-RADIUS=100;X-TITL
 E=Rathaus Schöneberg\, John-F.-Kennedy-Saal:geo:52.484902,13.344638
END:VEVENT
BEGIN:VTIMEZONE
TZID:Europe/Berlin
X-LIC-LOCATION:Europe/Berlin
BEGIN:STANDARD
DTSTART:20241027T020000
TZOFFSETFROM:+0200
TZOFFSETTO:+0100
TZNAME:CET
END:STANDARD
END:VTIMEZONE
END:VCALENDAR