BEGIN:VCALENDAR
VERSION:2.0
PRODID:-//wp-events-plugin.com//7.2.3.1//EN
TZID:Europe/Berlin
X-WR-TIMEZONE:Europe/Berlin
BEGIN:VEVENT
UID:318@cross-kultur.de
DTSTART;TZID=Europe/Berlin:20251119T180000
DTEND;TZID=Europe/Berlin:20251203T194500
DTSTAMP:20251022T083752Z
URL:https://www.cross-kultur.de/veranstaltungen/voyages-in-the-fantastic/
SUMMARY:Voyages in the Fantastic
DESCRIPTION:
CATEGORIES:2025_Voyages
LOCATION:Askanisches Gymnasium\, Raum 121\, Kaiserin-Augusta-Str. 19/20\, B
 erlin\, Berlin\, 12103\, Berlin
GEO:52.460224;13.380325
X-APPLE-STRUCTURED-LOCATION;VALUE=URI;X-ADDRESS=Kaiserin-Augusta-Str. 19/20
 \, Berlin\, Berlin\, 12103\, Berlin\, Deutschland;X-APPLE-RADIUS=100;X-TIT
 LE=Askanisches Gymnasium\, Raum 121:geo:52.460224,13.380325
END:VEVENT
BEGIN:VTIMEZONE
TZID:Europe/Berlin
X-LIC-LOCATION:Europe/Berlin
BEGIN:STANDARD
DTSTART:20251026T020000
TZOFFSETFROM:+0200
TZOFFSETTO:+0100
TZNAME:CET
END:STANDARD
END:VTIMEZONE
END:VCALENDAR